BEGIN:VCALENDAR
VERSION:2.0
PRODID:-//wp-events-plugin.com//7.2.3.1//EN
TZID:Europe/Amsterdam
X-WR-TIMEZONE:Europe/Amsterdam
BEGIN:VEVENT
UID:251@svwaalwijk.nl
DTSTART;TZID=Europe/Amsterdam:20251218T203000
DTEND;TZID=Europe/Amsterdam:20251218T234500
DTSTAMP:20250708T100811Z
URL:https://www.svwaalwijk.nl/events/snelschaak-toernooi/
SUMMARY:Snelschaak toernooi
DESCRIPTION:Snelschaken. Vier keer per jaar wordt er een snelschaaktoernooi
  georganiseerd. De resultaten van de beste drie toernooien bepalen wie zic
 h Snelschaak kampioen over het seizoen mag noemen.  
ATTACH;FMTTYPE=image/jpeg:https://www.svwaalwijk.nl/wp-content/uploads/202
 5/07/Snelschaak.png
CATEGORIES:Toernooien
END:VEVENT
BEGIN:VTIMEZONE
TZID:Europe/Amsterdam
X-LIC-LOCATION:Europe/Amsterdam
BEGIN:STANDARD
DTSTART:20251026T020000
TZOFFSETFROM:+0200
TZOFFSETTO:+0100
TZNAME:CET
END:STANDARD
END:VTIMEZONE
END:VCALENDAR