BEGIN:VCALENDAR
VERSION:2.0
PRODID:-//wp-events-plugin.com//7.2.3.1//EN
TZID:Europe/Amsterdam
X-WR-TIMEZONE:Europe/Amsterdam
BEGIN:VEVENT
UID:271@svwaalwijk.nl
DTSTART;TZID=Europe/Amsterdam:20260625T200000
DTEND;TZID=Europe/Amsterdam:20260625T234500
DTSTAMP:20250814T132153Z
URL:https://www.svwaalwijk.nl/events/4-seizoenen-toernooi-freestyle-rapid-
 3/
SUMMARY:Freestyle 4x4 Rapid toernooi
DESCRIPTION:Het 4 seizoenen toernooi wordt gespeeld\, zoals de naam aangeef
 t\, in de 4 seizoenen van het jaar. Ieder seizoen één ronde\, dit is de 
 lente ronde. De vorm is freestyle rapid in vierkampen ingedeeld naar speel
 sterkte. 
ATTACH;FMTTYPE=image/jpeg:https://www.svwaalwijk.nl/wp-content/uploads/202
 5/08/Freestyle.jpg
CATEGORIES:Toernooien
LOCATION:https://sporteninwaalwijk.nl/
END:VEVENT
BEGIN:VTIMEZONE
TZID:Europe/Amsterdam
X-LIC-LOCATION:Europe/Amsterdam
BEGIN:DAYLIGHT
DTSTART:20260329T030000
TZOFFSETFROM:+0100
TZOFFSETTO:+0200
TZNAME:CEST
END:DAYLIGHT
END:VTIMEZONE
END:VCALENDAR